BEGIN:VCALENDAR
VERSION:2.0
PRODID:icalendar-ruby
CALSCALE:GREGORIAN
METHOD:PUBLISH
BEGIN:VEVENT
DTSTAMP:20260420T183231Z
UID:7-1047825@border.church
DTSTART:20261012T083000Z
DTEND:20261012T093000Z
CLASS:PUBLIC
CREATED:20260421T023749
DESCRIPTION:
LAST-MODIFIED:20260421T023749
LOCATION:Zoom - Online
SUMMARY:Eyes Higher - Studies in the Book of Isaiah
URL;VALUE=URI:https://borderchurch.com/events/eyes-higher-studies-in-the-bo
 ok-of-isaiah/2026-10-12
ATTACH;FILENAME=eyes-higher-full.png;FMTTYPE=image/png:https://dq5pwpg1q8ru
 0.cloudfront.net/2022/09/26/17/21/31/a81e6dee-7b8e-4118-86bf-56fdcd055c1b/
 eyes-higher-full.png
END:VEVENT
END:VCALENDAR
